BEGIN:VCALENDAR
VERSION:2.0
PRODID:-//ChamberMaster//Event Calendar 2.0//EN
METHOD:PUBLISH
X-PUBLISHED-TTL:P1H
REFRESH-INTERVAL:P1H
CALSCALE:GREGORIAN
BEGIN:VTIMEZONE
TZID:America/New_York
BEGIN:DAYLIGHT
RRULE:FREQ=YEARLY;BYMONTH=3;BYDAY=2SU
DTSTART:20070101T000000
TZOFFSETFROM:-0500
TZOFFSETTO:-0400
TZNAME:Eastern Daylight Time
END:DAYLIGHT
BEGIN:STANDARD
RRULE:FREQ=YEARLY;BYMONTH=11;BYDAY=1SU
DTSTART:20070101T000000
TZOFFSETFROM:-0400
TZOFFSETTO:-0500
TZNAME:Eastern Standard Time
END:STANDARD
END:VTIMEZONE
BEGIN:VEVENT
DTSTART;TZID=America/New_York:20260506T180000
DTEND;TZID=America/New_York:20260506T200000
X-MICROSOFT-CDO-ALLDAYEVENT:FALSE
SUMMARY:Joe Nester Technology Recovery Center Ribbon Cutting
DESCRIPTION:You are invited to be part of a meaningful and impactful evening as we celebrate the Ribbon Cutting for the new Computer Lab at Recovery House of Central Florida. This incredible addition\, generously contributed by Christian Tech Center Ministries\, will provide valuable resources and opportunities for individuals on their journey to recovery.\n\nThis special dedication is held in honor of Joe Nester\, recognizing his legacy and the lasting difference this lab will make in the lives of so many.\n\nCome show your support\, connect with fellow community members\, and be part of something truly meaningful. Together\, we are building a stronger\, more empowered community.
X-ALT-DESC;FMTTYPE=text/html:You are invited to be part of a meaningful and impactful evening as we celebrate the Ribbon Cutting for the new Computer Lab at Recovery House of Central Florida. This incredible addition\, generously contributed by Christian Tech Center Ministries\, will provide valuable resources and opportunities for individuals on their journey to recovery.\n\nThis special dedication is held in honor of Joe Nester\, recognizing his legacy and the lasting difference this lab will make in the lives of so many.\n\nCome show your support\, connect with fellow community members\, and be part of something truly meaningful. Together\, we are building a stronger\, more empowered community.
LOCATION:401 Pecan Avenue Sanford FL 32771
UID:e.2813.1447013
SEQUENCE:3
DTSTAMP:20260425T014225Z
URL:https://business.cfchristianchamber.com/chamber-events/Details/joe-nester-technology-recovery-center-ribbon-cutting-1713820?sourceTypeId=Hub
END:VEVENT
END:VCALENDAR
